BEGIN:VCALENDAR
VERSION:2.0
PRODID:Events Booking
BEGIN:VEVENT
UID:69ea99615d7e5
SUMMARY:Happy New Year 2022
DESCRIPTION:Happy New Year 2022
DTSTART:20220101T050000Z
DTEND:20220101T050000Z
DTSTAMP:20260423T221249Z
ORGANIZER;CN=Divertissement:MAILTO:divertissement@clubmustangoutaouais.ca
END:VEVENT
END:VCALENDAR