BEGIN:VCALENDAR
VERSION:2.0
PRODID:Events Booking
BEGIN:VEVENT
UID:69ea999f57282
SUMMARY:Montreal Electric & Plug-in Hybrid Vehicle Show
DESCRIPTION:For information only
LOCATION:4545\, avenue Pierre-de-Coubertin\, Montréal\, QC H1V 0B2
DTSTART:20220423T130000Z
DTEND:20220424T210000Z
DTSTAMP:20220206T062156Z
ORGANIZER;CN=Divertissement:MAILTO:divertissement@clubmustangoutaouais.ca
GEO:45.556506;-73.553407
X-APPLE-STRUCTURED-LOCATION;VALUE=URI;X-ADDRESS=4545\, avenue Pierre-de-Cou
 bertin\, Montréal\, QC H1V 0B2;X-APPLE-RADIUS=72;X-TITLE=Montreal Olympic
  Stadium :45.556506;-73.553407
END:VEVENT
END:VCALENDAR