BEGIN:VCALENDAR
VERSION:2.0
PRODID:Events Booking
BEGIN:VEVENT
UID:69ea9a0e02efa
SUMMARY:Quebec Electric & Plug-in Hybrid Vehicle Show
DESCRIPTION:For information only
DTSTART:20220513T170000Z
DTEND:20220515T210000Z
DTSTAMP:20220206T063352Z
ORGANIZER;CN=Divertissement:MAILTO:divertissement@clubmustangoutaouais.ca
END:VEVENT
END:VCALENDAR