BEGIN:VCALENDAR
VERSION:2.0
PRODID:Events Booking
BEGIN:VEVENT
UID:69ea9920e0ad2
SUMMARY:Carlisle Ford Nationals 
DESCRIPTION:Pour information seulement
LOCATION:1000 Bryn Mawr Road\, Carlisle\, Pennsylvania 17013
DTSTART:20220603T110000Z
DTEND:20220605T160000Z
DTSTAMP:20220206T064106Z
ORGANIZER;CN=Divertissement:MAILTO:divertissement@clubmustangoutaouais.ca
GEO:40.218201;-77.187418
X-APPLE-STRUCTURED-LOCATION;VALUE=URI;X-ADDRESS=1000 Bryn Mawr Road\, Carli
 sle\, Pennsylvania 17013;X-APPLE-RADIUS=72;X-TITLE=Carlisle Fairgrounds:40
 .218201;-77.187418
END:VEVENT
END:VCALENDAR