BEGIN:VCALENDAR
VERSION:2.0
PRODID:Events Booking
BEGIN:VEVENT
UID:69ea992057c6f
SUMMARY:Atlantic Nationals Moncton N.B.
DESCRIPTION:For information only
LOCATION:St George Blvd\, Moncton\, NB E1E 2C2
DTSTART:20220706T230000Z
DTEND:20220710T230000Z
DTSTAMP:20220206T065643Z
ORGANIZER;CN=Divertissement:MAILTO:divertissement@clubmustangoutaouais.ca
GEO:46.085129;-64.829564
X-APPLE-STRUCTURED-LOCATION;VALUE=URI;X-ADDRESS=St George Blvd\, Moncton\, 
 NB E1E 2C2;X-APPLE-RADIUS=72;X-TITLE=Atlantic Nationals NB:46.085129;-64.8
 29564
END:VEVENT
END:VCALENDAR