BEGIN:VCALENDAR
VERSION:2.0
PRODID:Events Booking
BEGIN:VEVENT
UID:69ea9985023e7
SUMMARY:Antique Automobile Contest Chambly
DESCRIPTION:For information only
LOCATION:2 Rue de Richelieu\, Chambly\, QC J3L 2B9
DTSTART:20220709T120000Z
DTEND:20220710T200000Z
DTSTAMP:20220206T070932Z
ORGANIZER;CN=Divertissement:MAILTO:divertissement@clubmustangoutaouais.ca
GEO:45.448558;-73.277022
X-APPLE-STRUCTURED-LOCATION;VALUE=URI;X-ADDRESS=2 Rue de Richelieu\, Chambl
 y\, QC J3L 2B9;X-APPLE-RADIUS=72;X-TITLE=Fort-Chambly:45.448558;-73.277022
END:VEVENT
END:VCALENDAR