BEGIN:VCALENDAR
VERSION:2.0
PRODID:Events Booking
BEGIN:VEVENT
UID:69ea990cb1a7e
SUMMARY:Syracuse Nationals
DESCRIPTION:For information only
LOCATION:581 State Fair Blvd\, Syracuse\, NY 13209
DTSTART:20220715T120000Z
DTEND:20220717T200000Z
DTSTAMP:20220206T071900Z
ORGANIZER;CN=Divertissement:MAILTO:divertissement@clubmustangoutaouais.ca
GEO:43.073936;-76.215637
X-APPLE-STRUCTURED-LOCATION;VALUE=URI;X-ADDRESS=581 State Fair Blvd\, Syrac
 use\, NY 13209;X-APPLE-RADIUS=72;X-TITLE=New York State Fairgrounds:43.073
 936;-76.215637
END:VEVENT
END:VCALENDAR