BEGIN:VCALENDAR
VERSION:2.0
PRODID:Events Booking
BEGIN:VEVENT
UID:69eaad9466462
SUMMARY:ANNULLÉ - Auto Show Gatineau
DESCRIPTION:CANCELLED FOR 2023
LOCATION:15 Rue Raoul-Roy\, Gatineau\, QC J9H 6J2
DTSTART:20230806T040000Z
DTEND:20230806T040000Z
DTSTAMP:20220206T073746Z
ORGANIZER;CN=Divertissement:MAILTO:divertissement@clubmustangoutaouais.ca
GEO:45.399646;-75.860389
X-APPLE-STRUCTURED-LOCATION;VALUE=URI;X-ADDRESS=15 Rue Raoul-Roy\, Gatineau
 \, QC J9H 6J2;X-APPLE-RADIUS=72;X-TITLE=Des Cedres Parc:45.399646;-75.8603
 89
END:VEVENT
END:VCALENDAR