BEGIN:VCALENDAR
VERSION:2.0
PRODID:Events Booking
BEGIN:VEVENT
UID:69ea9a469837c
SUMMARY:Granby International - Exhibition of vintage cars
DESCRIPTION:For information only
LOCATION:230 Rue Drummond\, Granby\, QC J2G 2S3
DTSTART:20220729T120000Z
DTEND:20220731T200000Z
DTSTAMP:20220212T020536Z
ORGANIZER;CN=Divertissement:MAILTO:divertissement@clubmustangoutaouais.ca
GEO:45.525602;-73.244151
X-APPLE-STRUCTURED-LOCATION;VALUE=URI;X-ADDRESS=230 Rue Drummond\, Granby\,
  QC J2G 2S3;X-APPLE-RADIUS=72;X-TITLE=Daniel Johnson Park:45.525602;-73.24
 4151
END:VEVENT
END:VCALENDAR