BEGIN:VCALENDAR
VERSION:2.0
PRODID:Events Booking
BEGIN:VEVENT
UID:69eaaec0df8a7
SUMMARY:SEMA Show Vegas
DESCRIPTION:For information only
LOCATION:3150 Paradise Rd\, Las Vegas\, NV 89109
DTSTART:20221101T120000Z
DTEND:20221104T200000Z
DTSTAMP:20220214T003347Z
ORGANIZER;CN=Divertissement:MAILTO:divertissement@clubmustangoutaouais.ca
GEO:36.129464;-115.155535
X-APPLE-STRUCTURED-LOCATION;VALUE=URI;X-ADDRESS=3150 Paradise Rd\, Las Vega
 s\, NV 89109;X-APPLE-RADIUS=72;X-TITLE=Las Vegas Convention Center:36.1294
 64;-115.155535
END:VEVENT
END:VCALENDAR