BEGIN:VCALENDAR
VERSION:2.0
PRODID:Events Booking
BEGIN:VEVENT
UID:69ea99272eca5
SUMMARY:Salon Auto-Sport Quebec
DESCRIPTION:For information only
LOCATION:250 Bd Wilfrid-Hamel\, Québec G1L 5A7
DTSTART:20220429T040000Z
DTEND:20220501T040000Z
DTSTAMP:20220301T063712Z
ORGANIZER;CN=Divertissement:MAILTO:divertissement@clubmustangoutaouais.ca
GEO:46.826304;-71.249514
X-APPLE-STRUCTURED-LOCATION;VALUE=URI;X-ADDRESS=250 Bd Wilfrid-Hamel\, Qué
 bec G1L 5A7;X-APPLE-RADIUS=72;X-TITLE=Quebec Fair Center:46.826304;-71.249
 514
END:VEVENT
END:VCALENDAR