BEGIN:VCALENDAR
VERSION:2.0
PRODID:Events Booking
BEGIN:VEVENT
UID:69ea9a4721f17
SUMMARY:Exhibition of vintage cars Cheneville
DESCRIPTION:For information only
LOCATION:85 rue Principale\, Cheneville J0V 1E0
DTSTART:20220717T040000Z
DTEND:20220717T040000Z
DTSTAMP:20220301T073642Z
ORGANIZER;CN=Divertissement:MAILTO:divertissement@clubmustangoutaouais.ca
GEO:45.883578;-75.058408
X-APPLE-STRUCTURED-LOCATION;VALUE=URI;X-ADDRESS=85 rue Principale\, Chenevi
 lle J0V 1E0;X-APPLE-RADIUS=72;X-TITLE=Cheneville Church:45.883578;-75.0584
 08
END:VEVENT
END:VCALENDAR