BEGIN:VCALENDAR
VERSION:2.0
PRODID:Events Booking
BEGIN:VEVENT
UID:69eab0067ceb1
SUMMARY:Exhibition of vintage cars St-Sauveur
DESCRIPTION:For information only
LOCATION:226 Rue Principale\, Saint-Sauveur\, QC J0R 1R0
DTSTART:20220918T040000Z
DTEND:20220918T040000Z
DTSTAMP:20220301T074347Z
ORGANIZER;CN=Divertissement:MAILTO:divertissement@clubmustangoutaouais.ca
GEO:45.895371;-74.157951
X-APPLE-STRUCTURED-LOCATION;VALUE=URI;X-ADDRESS=226 Rue Principale\, Saint-
 Sauveur\, QC J0R 1R0;X-APPLE-RADIUS=72;X-TITLE=St-Sauveur Exhibition:45.89
 5371;-74.157951
END:VEVENT
END:VCALENDAR