BEGIN:VCALENDAR
VERSION:2.0
PRODID:Events Booking
BEGIN:VEVENT
UID:69ea999f7f2fd
SUMMARY:Mustang Direct Open Door
DESCRIPTION:Mustang Direct Open Door - For information only
  
LOCATION:6242 Rte 132\, Sainte-Catherine\, Quebec J5C 1B6
DTSTART:20220806T040000Z
DTEND:20220806T040000Z
DTSTAMP:20220305T015408Z
ORGANIZER;CN=Divertissement:MAILTO:divertissement@clubmustangoutaouais.ca
GEO:45.396038;-73.590114
X-APPLE-STRUCTURED-LOCATION;VALUE=URI;X-ADDRESS=6242 Rte 132\, Sainte-Cathe
 rine\, Quebec J5C 1B6;X-APPLE-RADIUS=72;X-TITLE=Mustang Direct:45.396038;-
 73.590114
END:VEVENT
END:VCALENDAR