BEGIN:VCALENDAR
VERSION:2.0
PRODID:Events Booking
BEGIN:VEVENT
UID:69ea99a07e7fa
SUMMARY:Rockland Boston Pizza Cruise Nights
DESCRIPTION:For information only
LOCATION:3002 Richelieu Street\, Rockland ON
DTSTART:20220515T203000Z
DTEND:20220516T000000Z
DTSTAMP:20220404T030115Z
ORGANIZER;CN=Divertissement:MAILTO:divertissement@clubmustangoutaouais.ca
GEO:45.532959;-75.30675
X-APPLE-STRUCTURED-LOCATION;VALUE=URI;X-ADDRESS=3002 Richelieu Street\, Roc
 kland ON;X-APPLE-RADIUS=72;X-TITLE=Boston Pizza Rockland:45.532959;-75.306
 75
END:VEVENT
END:VCALENDAR