BEGIN:VCALENDAR
VERSION:2.0
PRODID:Events Booking
BEGIN:VEVENT
UID:69ea9920861a2
SUMMARY:Wicked Garage Car Shows (Exotics)
DESCRIPTION:For information only
DTSTART:20220529T140000Z
DTEND:20220529T190000Z
DTSTAMP:20220404T031202Z
ORGANIZER;CN=Divertissement:MAILTO:divertissement@clubmustangoutaouais.ca
END:VEVENT
END:VCALENDAR