BEGIN:VCALENDAR
VERSION:2.0
PRODID:Events Booking
BEGIN:VEVENT
UID:69ea9a18ee855
SUMMARY:Meat and Grease Car Shows at Derand Motorsports
DESCRIPTION:
LOCATION:1231 Newmarket St C\, Ottawa\, ON K1B 5N6
DTSTART:20220528T200000Z
DTEND:20220529T000000Z
DTSTAMP:20220404T032023Z
ORGANIZER;CN=Divertissement:MAILTO:divertissement@clubmustangoutaouais.ca
GEO:45.411175;-75.619026
X-APPLE-STRUCTURED-LOCATION;VALUE=URI;X-ADDRESS=1231 Newmarket St C\, Ottaw
 a\, ON K1B 5N6;X-APPLE-RADIUS=72;X-TITLE=Derand Motorsport:45.411175;-75.6
 19026
END:VEVENT
END:VCALENDAR