BEGIN:VCALENDAR
VERSION:2.0
PRODID:Events Booking
BEGIN:VEVENT
UID:69eaaed46dbb7
SUMMARY:CANCELLED - Parker Auto Care Car Show
DESCRIPTION:For information only
LOCATION:891 Bellevue Ave\, Ottawa\, ON K1Z 5H2
DTSTART:20220806T140000Z
DTEND:20220806T190000Z
DTSTAMP:20220404T032907Z
ORGANIZER;CN=Divertissement:MAILTO:divertissement@clubmustangoutaouais.ca
GEO:45.377532;-75.745618
X-APPLE-STRUCTURED-LOCATION;VALUE=URI;X-ADDRESS=891 Bellevue Ave\, Ottawa\,
  ON K1Z 5H2;X-APPLE-RADIUS=72;X-TITLE=Parker Auto Care:45.377532;-75.74561
 8
END:VEVENT
END:VCALENDAR