BEGIN:VCALENDAR
VERSION:2.0
PRODID:Events Booking
BEGIN:VEVENT
UID:69eaae0f1e9be
SUMMARY:Dinner for the opening of 2022 Season - Club Mustang Outaouais
DESCRIPTION:
LOCATION:78 Bd Gréber\, Gatineau\, QC J8T 3P8
DTSTART:20220414T213000Z
DTEND:20220415T010000Z
DTSTAMP:20220408T213925Z
ORGANIZER;CN=Divertissement:MAILTO:divertissement@clubmustangoutaouais.ca
GEO:45.464064;-75.702738
X-APPLE-STRUCTURED-LOCATION;VALUE=URI;X-ADDRESS=78 Bd Gréber\, Gatineau\, 
 QC J8T 3P8;X-APPLE-RADIUS=72;X-TITLE=Frerot Cuisine et Bar:45.464064;-75.7
 02738
END:VEVENT
END:VCALENDAR