BEGIN:VCALENDAR
VERSION:2.0
PRODID:Events Booking
BEGIN:VEVENT
UID:69eac0261b294
SUMMARY:Due to the weather\, the meet is postponed to Friday
DESCRIPTION:
DTSTART:20220421T220000Z
DTEND:20220421T220000Z
DTSTAMP:20220420T041355Z
ORGANIZER;CN=Divertissement:MAILTO:divertissement@clubmustangoutaouais.ca
END:VEVENT
END:VCALENDAR