BEGIN:VCALENDAR
VERSION:2.0
PRODID:Events Booking
BEGIN:VEVENT
UID:69ea99606672e
SUMMARY:Happy Anniversary to the Mustang
DESCRIPTION:	
DTSTART:20220417T040000Z
DTEND:20220417T040000Z
DTSTAMP:20220424T002558Z
ORGANIZER;CN=Divertissement:MAILTO:divertissement@clubmustangoutaouais.ca
END:VEVENT
END:VCALENDAR