BEGIN:VCALENDAR
VERSION:2.0
PRODID:Events Booking
BEGIN:VEVENT
UID:69eaaeef1091e
SUMMARY:Happy Anniversary to the Mustang
DESCRIPTION:
DTSTART:20230417T040000Z
DTEND:20230417T040000Z
DTSTAMP:20220424T002659Z
ORGANIZER;CN=Divertissement:MAILTO:divertissement@clubmustangoutaouais.ca
END:VEVENT
END:VCALENDAR