BEGIN:VCALENDAR
VERSION:2.0
PRODID:Events Booking
BEGIN:VEVENT
UID:69ea9a0d235c9
SUMMARY:Blessing of Mustangs 2022 - Organized by the Club Mustang Hawkesbur
 y
DESCRIPTION:INFO :
 Organized by the Club Mustang Hawkesbury
 Sunday May 
 29 is the Blessing of the people and Mustangs at the Mass of Lourdes in Ri
 gaud.
 Departure at 10 a.m. from Tim Horton near the 17 in Hawkesbury\, b
 ring your LUNCH\, they will picnic in Rigaud\, followed by a ride through 
 Pointe au Cascades (stop) Les Cèdres\, Les coteaux\, St Polycarpe and sev
 eral other villages.
 We will ask $5 per car for the blessings.
 If you 
 are interested to participate\, please go to their Facebook site\, and add
  you name on their add.
 Alain - Club Mustang Hawkesbury
DTSTART:20220529T140000Z
DTEND:20220529T200000Z
DTSTAMP:20220528T004051Z
ORGANIZER;CN=Divertissement:MAILTO:divertissement@clubmustangoutaouais.ca
END:VEVENT
END:VCALENDAR