BEGIN:VCALENDAR
VERSION:2.0
PRODID:Events Booking
BEGIN:VEVENT
UID:69eac108c4fef
SUMMARY:POSTPONED TO FRIDAY - Weekly meet of Club Mustang Outaouais
DESCRIPTION:
LOCATION:200 Boul. Gréber\, Gatineau\, QC J8T 6K2
DTSTART:20220922T220000Z
DTEND:20220923T010000Z
DTSTAMP:20220920T145400Z
ORGANIZER;CN=Divertissement:MAILTO:divertissement@clubmustangoutaouais.ca
GEO:45.473366;-75.702418
X-APPLE-STRUCTURED-LOCATION;VALUE=URI;X-ADDRESS=200 Boul. Gréber\, Gatinea
 u\, QC J8T 6K2;X-APPLE-RADIUS=72;X-TITLE=200 Greber blvd - Meet Location:4
 5.473366;-75.702418
END:VEVENT
END:VCALENDAR