BEGIN:VCALENDAR
VERSION:2.0
PRODID:Events Booking
BEGIN:VEVENT
UID:69eaad88d14fa
SUMMARY:Annual General Meeting
DESCRIPTION:The details of the AGM will be sent to you soon.
DTSTART:20221027T040000Z
DTEND:20221027T040000Z
DTSTAMP:20220921T004014Z
ORGANIZER;CN=Divertissement:MAILTO:divertissement@clubmustangoutaouais.ca
END:VEVENT
END:VCALENDAR