BEGIN:VCALENDAR
VERSION:2.0
PRODID:Events Booking
BEGIN:VEVENT
UID:69ead46860b2e
SUMMARY:Weekly meet of Club Mustang Outaouais
DESCRIPTION:
DTSTART:20220923T220000Z
DTEND:20220924T010000Z
DTSTAMP:20220923T194147Z
ORGANIZER;CN=Divertissement:MAILTO:divertissement@clubmustangoutaouais.ca
END:VEVENT
END:VCALENDAR