BEGIN:VCALENDAR
VERSION:2.0
PRODID:Events Booking
BEGIN:VEVENT
UID:69eaad8956086
SUMMARY:Merry Christmas
DESCRIPTION:
DTSTART:20221225T050000Z
DTEND:20221226T045500Z
DTSTAMP:20221229T000911Z
ORGANIZER;CN=Divertissement:MAILTO:divertissement@clubmustangoutaouais.ca
END:VEVENT
END:VCALENDAR