BEGIN:VCALENDAR
VERSION:2.0
PRODID:Events Booking
BEGIN:VEVENT
UID:69eaae9772f48
SUMMARY:The Auto Show (Montreal)
DESCRIPTION:
LOCATION:1001 Pl. Jean-Paul-Riopelle\, Montréal\, QC H2Z 1H5
DTSTART:20230120T050000Z
DTEND:20230129T050000Z
DTSTAMP:20221229T001859Z
ORGANIZER;CN=Divertissement:MAILTO:divertissement@clubmustangoutaouais.ca
GEO:45.503855;-73.563158
X-APPLE-STRUCTURED-LOCATION;VALUE=URI;X-ADDRESS=1001 Pl. Jean-Paul-Riopelle
 \, Montréal\, QC H2Z 1H5;X-APPLE-RADIUS=72;X-TITLE=Montreal Convention Ce
 ntre:45.503855;-73.563158
END:VEVENT
END:VCALENDAR