BEGIN:VCALENDAR
VERSION:2.0
PRODID:Events Booking
BEGIN:VEVENT
UID:69eaaec1e12c2
SUMMARY:AutoShow Mobility Reimagined (Toronto)
DESCRIPTION:
DTSTART:20230217T050000Z
DTEND:20230226T050000Z
DTSTAMP:20221229T002408Z
ORGANIZER;CN=Divertissement:MAILTO:divertissement@clubmustangoutaouais.ca
END:VEVENT
END:VCALENDAR