BEGIN:VCALENDAR
VERSION:2.0
PRODID:Events Booking
BEGIN:VEVENT
UID:69eaaf7e2f8a7
SUMMARY:Granby International - Antique Car Exhibitions
DESCRIPTION:
DTSTART:20230728T040000Z
DTEND:20230730T040000Z
DTSTAMP:20221231T050231Z
ORGANIZER;CN=Divertissement:MAILTO:divertissement@clubmustangoutaouais.ca
END:VEVENT
END:VCALENDAR