BEGIN:VCALENDAR
VERSION:2.0
PRODID:Events Booking
BEGIN:VEVENT
UID:69eaaf7ea7f3c
SUMMARY:The Electric Vehicle Exhibition - Saint-Hyacinthe
DESCRIPTION:
DTSTART:20231110T050000Z
DTEND:20231112T050000Z
DTSTAMP:20221231T051613Z
ORGANIZER;CN=Divertissement:MAILTO:divertissement@clubmustangoutaouais.ca
END:VEVENT
END:VCALENDAR