BEGIN:VCALENDAR
VERSION:2.0
PRODID:Events Booking
BEGIN:VEVENT
UID:69eaae879bed1
SUMMARY:Merry Christmas!
DESCRIPTION:
DTSTART:20231225T050000Z
DTEND:20231225T050000Z
DTSTAMP:20221231T051739Z
ORGANIZER;CN=Divertissement:MAILTO:divertissement@clubmustangoutaouais.ca
END:VEVENT
END:VCALENDAR