BEGIN:VCALENDAR
VERSION:2.0
PRODID:Events Booking
BEGIN:VEVENT
UID:69eaae96e8eb2
SUMMARY:Durham (DRCMC) All Ford Show 
DESCRIPTION:
LOCATION:1063 Mary Dale Park Rd\, Port Hope\, Ont.
DTSTART:20230916T040000Z
DTEND:20230916T040000Z
DTSTAMP:20230122T234724Z
ORGANIZER;CN=Divertissement:MAILTO:divertissement@clubmustangoutaouais.ca
GEO:43.93294;-78.44318
X-APPLE-STRUCTURED-LOCATION;VALUE=URI;X-ADDRESS=1063 Mary Dale Park Rd\, Po
 rt Hope\, Ont.;X-APPLE-RADIUS=72;X-TITLE=Jensen Family Farm:43.93294;-78.4
 4318
END:VEVENT
END:VCALENDAR