BEGIN:VCALENDAR
VERSION:2.0
PRODID:Events Booking
BEGIN:VEVENT
UID:69eaad9371a1d
SUMMARY:Hawkesbury 25th anniversary Auto Show
DESCRIPTION:CMO will participate on Sunday September\, 3rd
DTSTART:20230902T120000Z
DTEND:20230903T200000Z
DTSTAMP:20230219T015527Z
ORGANIZER;CN=Divertissement:MAILTO:divertissement@clubmustangoutaouais.ca
END:VEVENT
END:VCALENDAR