BEGIN:VCALENDAR
VERSION:2.0
PRODID:Events Booking
BEGIN:VEVENT
UID:69ea5642c7bd4
SUMMARY:Lunch at Sugar Shack Domaine de l'Ange-Gardien
DESCRIPTION:For registered member of the Club Mustang Outaouais only.  If
  you would like to become a member of the club\, please register online on
  our website www.clubmustangoutaouais.ca.
 Hello\,
 You are invited to j
 oin us for our first activity of 2023\, a lunch at the Sugar Shack at the 
 Domaine de l'Ange-Gardien.  You don't have to come in a Mustang if the we
 ather or the roads are not suitable\, and there will be no common departur
 e\, we will all meet at 10:30am at the Domaine.
 The cost of the lunch is
  $31.60 plus tax per person\, and you must purchase your tickets online be
 fore March 11\, 2023.  Please see the invitation that was sent to you b
 y email for the link provided by the sugar shack to purchase tickets.
 A
 fter purchasing your tickets online\, please register on our website\, www
 .clubmustangoutaouais.ca\, so that we can keep track of those who will be 
 attending.
 Cancellation Policy: Full refund up to 10 days prior to sche
 duled meal date. A 10% fee will be charged for cancellations within 10 day
 s of the meal. No refunds within 48 hours of the meal. Full refund if canc
 elled by the merchant.
 We hope to see you soon.
LOCATION:1031\, chemin Pierre-Laporte\, L'Ange-Gardien\, Qc J8L 0E9
DTSTART:20230423T150000Z
DTEND:20230423T180000Z
DTSTAMP:20230219T033829Z
ORGANIZER;CN=Divertissement:MAILTO:divertissement@clubmustangoutaouais.ca
GEO:45.57152;-75.516885
X-APPLE-STRUCTURED-LOCATION;VALUE=URI;X-ADDRESS=1031\, chemin Pierre-Laport
 e\, L'Ange-Gardien\, Qc J8L 0E9;X-APPLE-RADIUS=72;X-TITLE=Domaine de L'Ang
 e Gardien - Sugar Shack:45.57152;-75.516885
END:VEVENT
END:VCALENDAR