BEGIN:VCALENDAR
VERSION:2.0
PRODID:Events Booking
BEGIN:VEVENT
UID:69eaad92ea666
SUMMARY:Opening BBQ for the 2023 season
DESCRIPTION:*** Rain or Shine *** and  ***  Bring your chairs  ***
 
  
 Who : All Club members\, their families and guests
  
 When : S
 aturday\, May 20th\, 2023\, after 1:00 pm
  
 Where : Orleans\, ON 

   
 Cost :
 $5.00 per person (member family) - Free for children 14 an
 d under
 $10.00 per person (guest non-member) 
  
 More information\,
  including address\, will be sent to members by email.
  
DTSTART:20230520T170000Z
DTEND:20230520T040000Z
DTSTAMP:20230420T021319Z
ORGANIZER;CN=Divertissement:MAILTO:divertissement@clubmustangoutaouais.ca
END:VEVENT
END:VCALENDAR