BEGIN:VCALENDAR
VERSION:2.0
PRODID:Events Booking
BEGIN:VEVENT
UID:69ead31b2491a
SUMMARY:CMO Weekly Meet
DESCRIPTION:The Club Mustang Outaouais is a social and friendly club that g
 athers Mustang's amateurs.  
 Come and meet us every Thursday\, from 18h
 00 to 21h30 at Always Mikes\, located at 200 Blvd Gréber Gatineau.
  

   
LOCATION:200 Boul. Gréber\, Gatineau\, QC J8T 6K2
DTSTART:20230608T220000Z
DTEND:20230609T013000Z
DTSTAMP:20230518T044248Z
ORGANIZER;CN=Divertissement:MAILTO:divertissement@clubmustangoutaouais.ca
GEO:45.473366;-75.702418
X-APPLE-STRUCTURED-LOCATION;VALUE=URI;X-ADDRESS=200 Boul. Gréber\, Gatinea
 u\, QC J8T 6K2;X-APPLE-RADIUS=72;X-TITLE=200 Greber blvd - Meet Location:4
 5.473366;-75.702418
END:VEVENT
END:VCALENDAR