BEGIN:VCALENDAR
VERSION:2.0
PRODID:Events Booking
BEGIN:VEVENT
UID:69eaec4e8baa8
SUMMARY:Visit of the Ottawa Mustang Club
DESCRIPTION:
 Club Mustang Outaouais will be hosting Ottawa Mustang Club o
 n this date\, the meet will be at Provigo Éric Charron for this event onl
 y.  
 Click on the hyperlink for directions: 
 https://goo.gl/maps/ag
 ykeg5UhscvV41eA
  
LOCATION:1 boul du Plateau\, Gatineau\, QC\, J9A 3G1
DTSTART:20230720T220000Z
DTEND:20230721T010000Z
DTSTAMP:20230529T043244Z
ORGANIZER;CN=Divertissement:MAILTO:divertissement@clubmustangoutaouais.ca
GEO:45.435178;-75.768646
X-APPLE-STRUCTURED-LOCATION;VALUE=URI;X-ADDRESS=1 boul du Plateau\, Gatinea
 u\, QC\, J9A 3G1;X-APPLE-RADIUS=72;X-TITLE=Provigo Éric Charron:45.435178
 ;-75.768646
END:VEVENT
END:VCALENDAR