BEGIN:VCALENDAR
VERSION:2.0
PRODID:Events Booking
BEGIN:VEVENT
UID:69eaad93e7ae4
SUMMARY:Carshow CMO Provigo Eric Charron
DESCRIPTION:Family Activities BBQ/50/50 Saturday June 10 from 11:00 a.m. to
  2:00 p.m. at Provigo Eric Charron du Plateau. All donations will be given
  to the Centre de pédiatrie sociale de Gatineau in collaboration with Clu
 b Mustang Outaouais
  
LOCATION:1 boul du Plateau\, Gatineau\, QC\, J9A 3G1
DTSTART:20230610T150000Z
DTEND:20230610T180000Z
DTSTAMP:20230529T063804Z
ORGANIZER;CN=Divertissement:MAILTO:divertissement@clubmustangoutaouais.ca
GEO:45.435178;-75.768646
X-APPLE-STRUCTURED-LOCATION;VALUE=URI;X-ADDRESS=1 boul du Plateau\, Gatinea
 u\, QC\, J9A 3G1;X-APPLE-RADIUS=72;X-TITLE=Provigo Éric Charron:45.435178
 ;-75.768646
END:VEVENT
END:VCALENDAR