BEGIN:VCALENDAR
VERSION:2.0
PRODID:Events Booking
BEGIN:VEVENT
UID:69eaaf326ee48
SUMMARY:Derand Motorsports Meet
DESCRIPTION:
LOCATION:3002 Richelieu St\, Rockland\, ON\, K4K 0B5
DTSTART:20230703T193000Z
DTEND:20230703T233000Z
DTSTAMP:20230701T223308Z
ORGANIZER;CN=Divertissement:MAILTO:divertissement@clubmustangoutaouais.ca
GEO:45.533866;-75.309892
X-APPLE-STRUCTURED-LOCATION;VALUE=URI;X-ADDRESS=3002 Richelieu St\, Rocklan
 d\, ON\, K4K 0B5;X-APPLE-RADIUS=72;X-TITLE=Boston Pizza Rockland:45.533866
 ;-75.309892
END:VEVENT
END:VCALENDAR