BEGIN:VCALENDAR
VERSION:2.0
PRODID:Events Booking
BEGIN:VEVENT
UID:69eaad87cd376
SUMMARY:Annual General Meeting
DESCRIPTION:Club Mustang Outaouais annual general meeting.  I cordially in
 vite all members to attend.  Important announcement.
 A meal will be ava
 ilable\, more details to follow soon.  A bar will be open.  You can read
  the meeting invite attached.
  
LOCATION:331 Boulevard de la Cité-des-Jeunes\, Gatineau\, Quebec\, J8Y 6T3
DTSTART:20231026T210000Z
DTEND:20231027T010000Z
DTSTAMP:20230902T055237Z
ORGANIZER;CN=Divertissement:MAILTO:divertissement@clubmustangoutaouais.ca
GEO:45.457901;-75.770099
X-APPLE-STRUCTURED-LOCATION;VALUE=URI;X-ADDRESS=331 Boulevard de la Cité-d
 es-Jeunes\, Gatineau\, Quebec\, J8Y 6T3;X-APPLE-RADIUS=72;X-TITLE=Cabane e
 n bois rond:45.457901;-75.770099
END:VEVENT
END:VCALENDAR