BEGIN:VCALENDAR
VERSION:2.0
PRODID:Events Booking
BEGIN:VEVENT
UID:69eaae0f4b01f
SUMMARY:Group Travel-Gatineau-Trois-Rivieres-World Record 2024 Mustang
DESCRIPTION:This page will be dedicated to the Mustangers who wish to join 
 Club Mustang Outaouais' group who will depart from Gatineau to Trois-Rivi
 ères the day before (May 4th) 2024 World Record Mustang departure on May 
 5th 2024. I have created this activity in the calendar to be able to con
 firm and count who will be the registered participants for this activity w
 hich will be unique.  I know there are a few of our members who have alre
 ady completed their registration.  I think it would be a great opportunit
 y to travel together to get to Trois-Rivières. Depending on the participa
 tion rate and interest\, I will specify the meeting point and departure ti
 me.
 When it comes to adding your names to the calendar\, choose \"Indivi
 dual Registration\" and you will be able to enter details in the note bloc
 k.
 To register for the 2024 World Mustang World Record https://form.jot
 form.com/233183420251041?fbclid=IwAR00v857a-ItBYSYYrAjyfXavHZHYo-isgKaU13A
 cuAKyAqD_9ftjeCSVEo
 https://www.facebook.com/photo?fbid=6624373731025201
 &amp\;set=pcb.7012680665456351
 I encourage everyone to participate in th
 is activity which will be widely disseminated!  More details to follow in
  the next few weeks.  
 Questions\, you can reach me\, Sylvain Deshaies
 \, president@clubmustangoutaouais.ca
  
DTSTART:20240504T130000Z
DTEND:20240504T230000Z
DTSTAMP:20231210T102758Z
ORGANIZER;CN=Divertissement:MAILTO:divertissement@clubmustangoutaouais.ca
END:VEVENT
END:VCALENDAR