BEGIN:VCALENDAR
VERSION:2.0
PRODID:Events Booking
BEGIN:VEVENT
UID:69ead5ce36232
SUMMARY:Carlisle Ford Nationals 2024
DESCRIPTION:
LOCATION:1000 Bryn Mawr Road\, Carlisle\, Pennsylvania 17013
DTSTART:20240530T040000Z
DTEND:20240602T040000Z
DTSTAMP:20231228T220318Z
ORGANIZER;CN=Divertissement:MAILTO:divertissement@clubmustangoutaouais.ca
GEO:40.218201;-77.187418
X-APPLE-STRUCTURED-LOCATION;VALUE=URI;X-ADDRESS=1000 Bryn Mawr Road\, Carli
 sle\, Pennsylvania 17013;X-APPLE-RADIUS=72;X-TITLE=Carlisle Fairgrounds:40
 .218201;-77.187418
END:VEVENT
END:VCALENDAR