BEGIN:VCALENDAR
VERSION:2.0
PRODID:Events Booking
BEGIN:VEVENT
UID:69eaad723123d
SUMMARY:Breakfast- Lunch La Creppa
DESCRIPTION:Hello Mustangers\, let's take advantage of this great opportuni
 ty to meet and fraternize while \"having a bite to eat!!  A great opportu
 nity for new members to join the Club Mustang Outaouais family and meet ne
 w friends. We look forward to seeing you!!   Reservations no later than 
 19 January 2024\, please register in calendar\, we can monitor how many pe
 rsons will be attending.   
 Restaurant La Creppa
  
LOCATION:106 Boul Gréber\, Gatineau\, QC J8T 3P8
DTSTART:20240127T160000Z
DTEND:20240127T190000Z
DTSTAMP:20240107T054742Z
ORGANIZER;CN=Divertissement:MAILTO:divertissement@clubmustangoutaouais.ca
GEO:45.466175;-75.703537
X-APPLE-STRUCTURED-LOCATION;VALUE=URI;X-ADDRESS=106 Boul Gréber\, Gatineau
 \, QC J8T 3P8;X-APPLE-RADIUS=72;X-TITLE=La Creppa:45.466175;-75.703537
END:VEVENT
END:VCALENDAR