BEGIN:VCALENDAR
VERSION:2.0
PRODID:Events Booking
BEGIN:VEVENT
UID:69eac312e0e3c
SUMMARY:Sugar House Domaine du Cerf
DESCRIPTION:Join us for an excellent trip/meal to Cabane à Sucre Domaine d
 u Cerf au Lac Blue Sea.  We'll take the opportunity to meet our good frie
 nds Andrée St-Denis &amp\; Mario Tremblay at family business.   Please 
 register the number of attendants.
 
LOCATION:92 Mnt des Pins\, Blue Sea\, QC J0X 1C0
DTSTART:20240323T150000Z
DTEND:20240323T180000Z
DTSTAMP:20240301T064556Z
ORGANIZER;CN=Divertissement:MAILTO:divertissement@clubmustangoutaouais.ca
GEO:46.160115;-76.097554
X-APPLE-STRUCTURED-LOCATION;VALUE=URI;X-ADDRESS=92 Mnt des Pins\, Blue Sea\
 , QC J0X 1C0;X-APPLE-RADIUS=72;X-TITLE=Sugar House Domaine Du Cerf:46.1601
 15;-76.097554
END:VEVENT
END:VCALENDAR