BEGIN:VCALENDAR
VERSION:2.0
PRODID:Events Booking
BEGIN:VEVENT
UID:69eaad73479e0
SUMMARY:Nickels Deli Dinner
DESCRIPTION:https://nickelsdeli.com/en/locations/
 WE HAVE REACHED THE LIM
 IT OF THE RESTAURANT CAN ACCEPT
 Another great opportunity to get togethe
 r for the launch of the 5th season of Club Mustang Outaouais. This will al
 so be a great opportunity to share with you the details for the WORLD RECO
 RD 2024/60TH ANNIVERSARY MUSTANG WORLD RECORD l 2024/60th parade. You will
  also be able to renew your membership for the 2024-25 season and we will 
 also present the new items available bearing the Club logo (e.g. polo shi
 rt\, cap\, etc.)
LOCATION:120 Bd de l'Hôpital\, Gatineau\, QC J8T 8M2
DTSTART:20240425T220000Z
DTEND:20240426T010000Z
DTSTAMP:20240320T053542Z
ORGANIZER;CN=Divertissement:MAILTO:divertissement@clubmustangoutaouais.ca
GEO:45.480828;-75.686889
X-APPLE-STRUCTURED-LOCATION;VALUE=URI;X-ADDRESS=120 Bd de l'Hôpital\, Gati
 neau\, QC J8T 8M2;X-APPLE-RADIUS=72;X-TITLE=Nickels Restaurant:45.480828;-
 75.686889
END:VEVENT
END:VCALENDAR