BEGIN:VCALENDAR
VERSION:2.0
PRODID:Events Booking
BEGIN:VEVENT
UID:69eaae86a72a4
SUMMARY:National Mustang Day 
DESCRIPTION:
DTSTART:20240417T040000Z
DTEND:20240418T035500Z
DTSTAMP:20240321T062319Z
ORGANIZER;CN=Divertissement:MAILTO:divertissement@clubmustangoutaouais.ca
END:VEVENT
END:VCALENDAR