BEGIN:VCALENDAR
VERSION:2.0
PRODID:Events Booking
BEGIN:VEVENT
UID:69eaad7206fb2
SUMMARY:POSTPONED Visit Papillonnerie
DESCRIPTION:EVENT POSTPONED
DTSTART:20240518T040000Z
DTEND:20240518T040000Z
DTSTAMP:20240321T062931Z
ORGANIZER;CN=Divertissement:MAILTO:divertissement@clubmustangoutaouais.ca
END:VEVENT
END:VCALENDAR