BEGIN:VCALENDAR
VERSION:2.0
PRODID:Events Booking
BEGIN:VEVENT
UID:69eaaf6b7da2b
SUMMARY:Electric Car Show Gatineau
DESCRIPTION:https://www.facebook.com/salonelectriqueoutaouais
 https://sal
 onelectriquedeloutaouais.com/?fbclid=IwAR0ENefSZx67ovPNReZSJK5w99TSrLX8PSu
 VKqvC4xCAfeCDM8sc698-7ss_aem_AUsQSzjNtT8fqi7AwWYi4Zc_v_6PJwT3FBtJv-SnXDCIE
 gCf-mpMmx2qycVIk6ndwLvvQMzZzoWBE1HuLLtl-fkW
  Complexe Branchaud-Brière
  - 499 Bd Labrosse #100\, Gatineau\, QC \, Gatineau\, QC\, Canada\, Quebec
 
  
DTSTART:20240405T140000Z
DTEND:20240407T210000Z
DTSTAMP:20240404T032245Z
ORGANIZER;CN=Divertissement:MAILTO:divertissement@clubmustangoutaouais.ca
END:VEVENT
END:VCALENDAR