BEGIN:VCALENDAR
VERSION:2.0
PRODID:Events Booking
BEGIN:VEVENT
UID:69ead567e062e
SUMMARY:MUSTANG DYNO DAY
DESCRIPTION:IN PARTNERSHIP WITH THE OTTAWA MUSTANG CLUB AND CLUB MUSTANG OU
 TAOUAIS
 
 Date: June 9th\, 2024Time: 10:00 AM – 5:00 PMLocation: 2535
  Blackwell Street\, Unit 108\, Ottawa\, On Open to: Everyone!Registration
 : Only required for Baseline Testing – come watch and join the fun for f
 ree!
 EVENTSDyno Testing: Baseline Testing for 10 registrants (more if ti
 me allows).
 Dyno Tuning: One lucky club member will be awarded a FREE cu
 stom Dyno Tune.
 Membership Drive: Join the Ottawa Mustang Club or Outaou
 ais Mustang Club at this event.
 BBQ: Hot dogs\, hamburgers\, drinks &amp
 \; snacks. All proceeds go to a local charity.
 Note: This is a day-long 
 event – you may want to bring a folding chair.
 BASELINE TESTING – PA
 RTICIPATION GUIDELINES:Find out just how much power your Mustang is making
 ! We’ll strap your car down on our custom-built chassis dyno and make th
 ree consecutive passes. When completed\, we’ll provide you with an accur
 ate report showing the Horsepower and Torque your Mustang is producing! 
 
 Click this link to view interesting details  MUSTANG DYNO DAY 
 Here
 ’s what you need to know:
 We will do Baseline Testing on 10 Mustangs o
 n Dyno Day (more if time permits).All Mustang owners\, whether club member
 s or not\, can register.The Baseline Test fee for Dyno Day is $100 (the re
 gular Baseline Test price is $250).To register for a Baseline Test\, you m
 ust submit this online registration form by May 31st. Online registration
  formSelected entrants will be notified by June 3rd. The $100 registration
  fee must be received within 48 hours and may be made by credit card or e-
 transfer.You must be the registered owner and show your vehicle registrati
 on on Dyno Day to participate.All participants MUST complete a Safety Chec
 klist and a Release of Liability form.
  
LOCATION:2535 Blackwell Street\, Unit 108\, Ottawa\, Ontario 
DTSTART:20240609T140000Z
DTEND:20240609T210000Z
DTSTAMP:20240411T065602Z
ORGANIZER;CN=Divertissement:MAILTO:divertissement@clubmustangoutaouais.ca
GEO:45.405945;-75.611802
X-APPLE-STRUCTURED-LOCATION;VALUE=URI;X-ADDRESS=2535 Blackwell Street\, Uni
 t 108\, Ottawa\, Ontario ;X-APPLE-RADIUS=72;X-TITLE=International Dyno Aut
 hority:45.405945;-75.611802
END:VEVENT
END:VCALENDAR